BEGIN:VCALENDAR
VERSION:2.0
PRODID:spatie/icalendar-generator
NAME:Magic Girls
X-WR-CALNAME:Magic Girls
DESCRIPTION:Events for Magic Girls
X-WR-CALDESC:Events for Magic Girls
BEGIN:VEVENT
UID:3513-1792108800-1792195140@magicgirls.info
DTSTAMP:20260421T100534Z
SUMMARY:Flashback 90s & 2000s Party – JGV Odendorf 2026
DESCRIPTION:
LOCATION:Am Zehnthof\, Swisttal\, NRW 53913\, Deutschland
X-MICROSOFT-CDO-ALLDAYEVENT:TRUE
URL:https://magicgirls.info/event/flashback-90s-2000s-party-jgv-odendorf-20
 26/
DTSTART;VALUE=DATE:20261016
DTEND;VALUE=DATE:20261016
END:VEVENT
END:VCALENDAR