BEGIN:VCALENDAR
VERSION:2.0
PRODID:spatie/icalendar-generator
NAME:Magic Girls
X-WR-CALNAME:Magic Girls
DESCRIPTION:Events for Magic Girls
X-WR-CALDESC:Events for Magic Girls
BEGIN:VEVENT
UID:3528-1800057600-1800143940@magicgirls.info
DTSTAMP:20260421T121335Z
SUMMARY:Herrensitzung der KG Fidele Jonge Nörvenich 1932 e.V. – 2027
DESCRIPTION:
LOCATION:Rathausstraße 4\, Nörvenich\, 52388
X-MICROSOFT-CDO-ALLDAYEVENT:TRUE
URL:https://magicgirls.info/event/herrensitzung-der-kg-fidele-jonge-noerven
 ich-1932-e-v-2027/
DTSTART;VALUE=DATE:20270116
DTEND;VALUE=DATE:20270116
END:VEVENT
END:VCALENDAR